BEGIN:VCALENDAR
VERSION:2.0
PRODID:-//Stadt Lucka - Perle im Dreiländereck//NONSGML kigkonsult.se iCalc
 reator 2.30.10//
CALSCALE:GREGORIAN
METHOD:PUBLISH
UID:29df7a83-7475-4bdb-9c13-8d201926a6a4
X-WR-CALNAME:iCagenda
X-WR-CALDESC:Event Management Extension for Joomla!
X-WR-RELCALID:3E26604A-50F4-4449-8B3E-E4F4932D05B5
X-WR-TIMEZONE:Europe/Berlin
BEGIN:VTIMEZONE
TZID:Europe/Berlin
BEGIN:STANDARD
TZNAME:CET
DTSTART:20251026T030000
TZOFFSETFROM:+0200
TZOFFSETTO:+0100
RDATE:20261025T030000
END:STANDARD
BEGIN:DAYLIGHT
TZNAME:CEST
DTSTART:20250330T020000
TZOFFSETFROM:+0100
TZOFFSETTO:+0200
RDATE:20260329T020000
RDATE:20270328T020000
END:DAYLIGHT
END:VTIMEZONE
BEGIN:VEVENT
UID:e511b0cc-a79e-4b33-9e58-9d6b1633a0a9
DTSTAMP:20260421T165159Z
CATEGORIES:Feste
CLASS:PUBLIC
DESCRIPTION:
DTSTART:20260130T154500Z
DTEND:20260130T173000Z
GEO:00;0
LOCATION:Kita 'Kleeblatt'
ORGANIZER:
SEQUENCE:1
SUMMARY:Lichterfest in der Kita 'Kleeblatt'
TRANSP:OPAQUE
URL:https://lucka.de/component/icagenda/80-lichterfest-in-der-kita-kleeblat
 t?Itemid=435
END:VEVENT
END:VCALENDAR
