BEGIN:VCALENDAR
VERSION:2.0
PRODID:-//Stadt Lucka - Perle im Dreiländereck//NONSGML kigkonsult.se iCalc
 reator 2.30.10//
CALSCALE:GREGORIAN
METHOD:PUBLISH
UID:227557b1-2e83-4f55-97b5-e72b6eb37519
X-WR-CALNAME:iCagenda
X-WR-CALDESC:Event Management Extension for Joomla!
X-WR-RELCALID:3E26604A-50F4-4449-8B3E-E4F4932D05B5
X-WR-TIMEZONE:Europe/Berlin
BEGIN:VTIMEZONE
TZID:Europe/Berlin
BEGIN:STANDARD
TZNAME:CET
DTSTART:20231029T030000
TZOFFSETFROM:+0200
TZOFFSETTO:+0100
RDATE:20241027T030000
RDATE:20251026T030000
END:STANDARD
BEGIN:DAYLIGHT
TZNAME:CEST
DTSTART:20240331T020000
TZOFFSETFROM:+0100
TZOFFSETTO:+0200
RDATE:20250330T020000
END:DAYLIGHT
END:VTIMEZONE
BEGIN:VEVENT
UID:2a8cecc9-7c94-4cb3-815e-eebce2aeab5d
DTSTAMP:20260421T161652Z
CATEGORIES:Konzerte
CLASS:PUBLIC
DESCRIPTION:
DTSTART:20240427T130000Z
DTEND:20240427T130000Z
GEO:00;0
LOCATION:'Deutsches Haus' Lucka
ORGANIZER:
SEQUENCE:1
SUMMARY:Frühjahrskonzert JBL e.V\,
TRANSP:OPAQUE
URL:https://lucka.de/component/icagenda/8-fruehjahrskonzert-jbl-e-v?Itemid=
 435
END:VEVENT
END:VCALENDAR
