BEGIN:VCALENDAR
VERSION:2.0
PRODID:-//Stadt Lucka - Perle im Dreiländereck//NONSGML kigkonsult.se iCalc
 reator 2.30.10//
CALSCALE:GREGORIAN
METHOD:PUBLISH
UID:f20d600c-7912-4580-af2d-6050b0632403
X-WR-CALNAME:iCagenda
X-WR-CALDESC:Event Management Extension for Joomla!
X-WR-RELCALID:3E26604A-50F4-4449-8B3E-E4F4932D05B5
X-WR-TIMEZONE:Europe/Berlin
BEGIN:VTIMEZONE
TZID:Europe/Berlin
BEGIN:STANDARD
TZNAME:CET
DTSTART:20231029T030000
TZOFFSETFROM:+0200
TZOFFSETTO:+0100
RDATE:20241027T030000
END:STANDARD
BEGIN:DAYLIGHT
TZNAME:CEST
DTSTART:20230326T020000
TZOFFSETFROM:+0100
TZOFFSETTO:+0200
RDATE:20240331T020000
RDATE:20250330T020000
END:DAYLIGHT
END:VTIMEZONE
BEGIN:VEVENT
UID:de8072e8-e925-478f-bbfa-567757342dd0
DTSTAMP:20260421T175109Z
CATEGORIES:Veranstaltung
CLASS:PUBLIC
DESCRIPTION:
DTSTART:20240210T181100Z
DTEND:20240210T181100Z
GEO:00;0
LOCATION:'Deutsches Haus' Lucka
ORGANIZER:
SEQUENCE:1
SUMMARY:Karnevalsveranstaltung
TRANSP:OPAQUE
URL:https://lucka.de/component/icagenda/7-karnevalsveranstaltung-2?Itemid=4
 35
END:VEVENT
END:VCALENDAR
