BEGIN:VCALENDAR
VERSION:2.0
PRODID:-//Stadt Lucka - Perle im Dreiländereck//NONSGML kigkonsult.se iCalc
 reator 2.30.10//
CALSCALE:GREGORIAN
METHOD:PUBLISH
UID:e0ab2523-fd08-4acf-868c-99266b3a191f
X-WR-CALNAME:iCagenda
X-WR-CALDESC:Event Management Extension for Joomla!
X-WR-RELCALID:3E26604A-50F4-4449-8B3E-E4F4932D05B5
X-WR-TIMEZONE:Europe/Berlin
BEGIN:VTIMEZONE
TZID:Europe/Berlin
BEGIN:STANDARD
TZNAME:CET
DTSTART:20241027T030000
TZOFFSETFROM:+0200
TZOFFSETTO:+0100
RDATE:20251026T030000
RDATE:20261025T030000
END:STANDARD
BEGIN:DAYLIGHT
TZNAME:CEST
DTSTART:20250330T020000
TZOFFSETFROM:+0100
TZOFFSETTO:+0200
RDATE:20260329T020000
END:DAYLIGHT
END:VTIMEZONE
BEGIN:VEVENT
UID:5732aad7-34ce-4c1c-830f-393d825a0a8f
DTSTAMP:20260421T161625Z
CATEGORIES:Märkte
CLASS:PUBLIC
DESCRIPTION:
DTSTART:20250510T050000Z
DTEND:20250510T110000Z
GEO:00;0
LOCATION:Neumarkt Clara-Zetkin-Straße
ORGANIZER:
SEQUENCE:1
SUMMARY:Trödelmarkt
TRANSP:OPAQUE
URL:https://lucka.de/component/icagenda/60-troedelmarkt-4?Itemid=435
END:VEVENT
END:VCALENDAR
