BEGIN:VCALENDAR
VERSION:2.0
PRODID:-//Stadt Lucka - Perle im Dreiländereck//NONSGML kigkonsult.se iCalc
 reator 2.30.10//
CALSCALE:GREGORIAN
METHOD:PUBLISH
UID:ba96b060-2a4b-41fa-8721-b81c3bdfeeb3
X-WR-CALNAME:iCagenda
X-WR-CALDESC:Event Management Extension for Joomla!
X-WR-RELCALID:3E26604A-50F4-4449-8B3E-E4F4932D05B5
X-WR-TIMEZONE:Europe/Berlin
BEGIN:VTIMEZONE
TZID:Europe/Berlin
BEGIN:STANDARD
TZNAME:CET
DTSTART:20241027T030000
TZOFFSETFROM:+0200
TZOFFSETTO:+0100
RDATE:20251026T030000
RDATE:20261025T030000
END:STANDARD
BEGIN:DAYLIGHT
TZNAME:CEST
DTSTART:20250330T020000
TZOFFSETFROM:+0100
TZOFFSETTO:+0200
RDATE:20260329T020000
END:DAYLIGHT
END:VTIMEZONE
BEGIN:VEVENT
UID:ac65dea4-aa0c-45a4-96f9-a9ca74c3fd53
DTSTAMP:20260421T125925Z
CATEGORIES:Feste
CLASS:PUBLIC
DESCRIPTION:
DTSTART:20250430T130000Z
DTEND:20250430T130000Z
GEO:00;0
LOCATION:Seerose Prößdorf
ORGANIZER:
SEQUENCE:1
SUMMARY:Maibaumsetzen in Prößdorf
TRANSP:OPAQUE
URL:https://lucka.de/component/icagenda/53-maibaumsetzen-in-lucka-4?Itemid=
 435
END:VEVENT
END:VCALENDAR
