BEGIN:VCALENDAR
VERSION:2.0
PRODID:-//Stadt Lucka - Perle im Dreiländereck//NONSGML kigkonsult.se iCalc
 reator 2.30.10//
CALSCALE:GREGORIAN
METHOD:PUBLISH
UID:35bede60-47f8-4e3a-9d58-b8690c26b537
X-WR-CALNAME:iCagenda
X-WR-CALDESC:Event Management Extension for Joomla!
X-WR-RELCALID:3E26604A-50F4-4449-8B3E-E4F4932D05B5
X-WR-TIMEZONE:Europe/Berlin
BEGIN:VTIMEZONE
TZID:Europe/Berlin
BEGIN:STANDARD
TZNAME:CET
DTSTART:20241027T030000
TZOFFSETFROM:+0200
TZOFFSETTO:+0100
RDATE:20251026T030000
END:STANDARD
BEGIN:DAYLIGHT
TZNAME:CEST
DTSTART:20240331T020000
TZOFFSETFROM:+0100
TZOFFSETTO:+0200
RDATE:20250330T020000
RDATE:20260329T020000
END:DAYLIGHT
END:VTIMEZONE
BEGIN:VEVENT
UID:aadda7e0-3a1d-484f-a5a2-5d9f1b0d2928
DTSTAMP:20260421T161806Z
CATEGORIES:Veranstaltung
CLASS:PUBLIC
DESCRIPTION:
DTSTART:20250222T181100Z
DTEND:20250222T181100Z
GEO:00;0
LOCATION:'Deutsches Haus' Lucka
ORGANIZER:
SEQUENCE:1
SUMMARY:Karnevalsveranstaltung
TRANSP:OPAQUE
URL:https://lucka.de/component/icagenda/48-karnevalsveranstaltung-3?Itemid=
 435
END:VEVENT
END:VCALENDAR
