BEGIN:VCALENDAR
VERSION:2.0
PRODID:-//Stadt Lucka - Perle im Dreiländereck//NONSGML kigkonsult.se iCalc
 reator 2.30.10//
CALSCALE:GREGORIAN
METHOD:PUBLISH
UID:e4926552-bfe7-4a9b-9ebb-10131196a0e5
X-WR-CALNAME:iCagenda
X-WR-CALDESC:Event Management Extension for Joomla!
X-WR-RELCALID:3E26604A-50F4-4449-8B3E-E4F4932D05B5
X-WR-TIMEZONE:Europe/Berlin
BEGIN:VTIMEZONE
TZID:Europe/Berlin
BEGIN:STANDARD
TZNAME:CET
DTSTART:20241027T030000
TZOFFSETFROM:+0200
TZOFFSETTO:+0100
RDATE:20251026T030000
END:STANDARD
BEGIN:DAYLIGHT
TZNAME:CEST
DTSTART:20240331T020000
TZOFFSETFROM:+0100
TZOFFSETTO:+0200
RDATE:20250330T020000
RDATE:20260329T020000
END:DAYLIGHT
END:VTIMEZONE
BEGIN:VEVENT
UID:c14d57b0-c918-4c31-b336-2e926778d9c0
DTSTAMP:20260421T194230Z
CATEGORIES:Lesungen
CLASS:PUBLIC
DESCRIPTION:
DTSTART:20241203T150000Z
DTEND:20241203T150000Z
GEO:00;0
LOCATION:Bibliothek Lucka\, Clara-Zetkin-Straße 28\, 04613 Lucka
ORGANIZER;CN=:biboluckagrosse@web.de
SEQUENCE:1
SUMMARY:Vorlese-und Bastelnachmittag für Kinder
TRANSP:OPAQUE
URL:https://lucka.de/component/icagenda/43-vorlese-und-bastelnachmittag-fue
 r-kinder?Itemid=435
END:VEVENT
END:VCALENDAR
