BEGIN:VCALENDAR
VERSION:2.0
PRODID:-//Stadt Lucka - Perle im Dreiländereck//NONSGML kigkonsult.se iCalc
 reator 2.30.10//
CALSCALE:GREGORIAN
METHOD:PUBLISH
UID:0b81d006-6d65-4ad3-80e3-4c834a51f20b
X-WR-CALNAME:iCagenda
X-WR-CALDESC:Event Management Extension for Joomla!
X-WR-RELCALID:3E26604A-50F4-4449-8B3E-E4F4932D05B5
X-WR-TIMEZONE:Europe/Berlin
BEGIN:VTIMEZONE
TZID:Europe/Berlin
BEGIN:STANDARD
TZNAME:CET
DTSTART:20231029T030000
TZOFFSETFROM:+0200
TZOFFSETTO:+0100
RDATE:20241027T030000
RDATE:20251026T030000
END:STANDARD
BEGIN:DAYLIGHT
TZNAME:CEST
DTSTART:20240331T020000
TZOFFSETFROM:+0100
TZOFFSETTO:+0200
RDATE:20250330T020000
END:DAYLIGHT
END:VTIMEZONE
BEGIN:VEVENT
UID:9f82ba4b-ca2d-41d5-90da-a1af5983a6fc
DTSTAMP:20260421T225433Z
CATEGORIES:Veranstaltung
CLASS:PUBLIC
DESCRIPTION;ALTREP="CID:<FFFF__=0ABBE548DFE235B58f9e8a93d@coffeebean.com>":
 Gemeinsam mit euch Kindern\, Jugendlichen und jungen Erwachsenen möchten w
 ir gern in eurer Heimatstadt Lucka etwas verändern und dazu mit euch ins G
 espräch kommen.
DTSTART:20240918T150000Z
DTEND:20240918T150000Z
GEO:00;0
LOCATION:Fußballplatz am Tivoli Lucka
ORGANIZER:
SEQUENCE:1
SUMMARY:Veranstaltung Zukunftswerkstatt Lucka „Jugend bewegt Stadt“.
TRANSP:OPAQUE
URL:https://lucka.de/component/icagenda/41-veranstaltung-zukunftswerkstatt-
 lucka-jugend-bewegt-stadt?Itemid=435
END:VEVENT
END:VCALENDAR
