BEGIN:VCALENDAR
VERSION:2.0
PRODID:-//Stadt Lucka - Perle im Dreiländereck//NONSGML kigkonsult.se iCalc
 reator 2.30.10//
CALSCALE:GREGORIAN
METHOD:PUBLISH
UID:07cf666a-6226-459f-8b8e-24710e342e29
X-WR-CALNAME:iCagenda
X-WR-CALDESC:Event Management Extension for Joomla!
X-WR-RELCALID:3E26604A-50F4-4449-8B3E-E4F4932D05B5
X-WR-TIMEZONE:Europe/Berlin
BEGIN:VTIMEZONE
TZID:Europe/Berlin
BEGIN:STANDARD
TZNAME:CET
DTSTART:20231029T030000
TZOFFSETFROM:+0200
TZOFFSETTO:+0100
RDATE:20241027T030000
RDATE:20251026T030000
END:STANDARD
BEGIN:DAYLIGHT
TZNAME:CEST
DTSTART:20240331T020000
TZOFFSETFROM:+0100
TZOFFSETTO:+0200
RDATE:20250330T020000
END:DAYLIGHT
END:VTIMEZONE
BEGIN:VEVENT
UID:9f597dd6-286c-4754-b3c0-2ca6e6d1a0bb
DTSTAMP:20260421T191743Z
CATEGORIES:Feste
CLASS:PUBLIC
DESCRIPTION:
DTSTART:20240713T120000Z
DTEND:20240713T150000Z
GEO:00;0
LOCATION:Gartenanlage „Am Waldessaum“ in Lucka\, Altenburger Str.
ORGANIZER:
SEQUENCE:1
SUMMARY:Vereins- und Kinderfest
TRANSP:OPAQUE
URL:https://lucka.de/component/icagenda/40-vereins-und-kinderfest?Itemid=43
 5
END:VEVENT
END:VCALENDAR
