BEGIN:VCALENDAR
VERSION:2.0
PRODID:-//Stadt Lucka - Perle im Dreiländereck//NONSGML kigkonsult.se iCalc
 reator 2.30.10//
CALSCALE:GREGORIAN
METHOD:PUBLISH
UID:1635f336-b753-4375-bd8f-3f2e91d5014f
X-WR-CALNAME:iCagenda
X-WR-CALDESC:Event Management Extension for Joomla!
X-WR-RELCALID:3E26604A-50F4-4449-8B3E-E4F4932D05B5
X-WR-TIMEZONE:Europe/Berlin
BEGIN:VTIMEZONE
TZID:Europe/Berlin
BEGIN:STANDARD
TZNAME:CET
DTSTART:20231029T030000
TZOFFSETFROM:+0200
TZOFFSETTO:+0100
RDATE:20241027T030000
RDATE:20251026T030000
END:STANDARD
BEGIN:DAYLIGHT
TZNAME:CEST
DTSTART:20240331T020000
TZOFFSETFROM:+0100
TZOFFSETTO:+0200
RDATE:20250330T020000
END:DAYLIGHT
END:VTIMEZONE
BEGIN:VEVENT
UID:feddee2a-b63e-42f9-8b76-5506bcbd3e6d
DTSTAMP:20260421T194230Z
CATEGORIES:Veranstaltung
CLASS:PUBLIC
DESCRIPTION:
DTSTART:20240602T082400Z
DTEND:20240602T082400Z
GEO:00;0
LOCATION:Vereinhaus JBL Meuselw. Straße
ORGANIZER:
SEQUENCE:1
SUMMARY:Tag der offenen Tür beim JBL incl. Kinderfest
TRANSP:OPAQUE
URL:https://lucka.de/component/icagenda/26-tag-der-offenen-tuer-beim-jbl-in
 cl-kinderfest/2024-06-02-10-24?Itemid=435
END:VEVENT
END:VCALENDAR
