BEGIN:VCALENDAR
VERSION:2.0
PRODID:-//Stadt Lucka - Perle im Dreiländereck//NONSGML kigkonsult.se iCalc
 reator 2.30.10//
CALSCALE:GREGORIAN
METHOD:PUBLISH
UID:58a679cd-b651-4705-bf7e-aef38d2fc0dd
X-WR-CALNAME:iCagenda
X-WR-CALDESC:Event Management Extension for Joomla!
X-WR-RELCALID:3E26604A-50F4-4449-8B3E-E4F4932D05B5
X-WR-TIMEZONE:Europe/Berlin
BEGIN:VTIMEZONE
TZID:Europe/Berlin
BEGIN:STANDARD
TZNAME:CET
DTSTART:20231029T030000
TZOFFSETFROM:+0200
TZOFFSETTO:+0100
RDATE:20241027T030000
RDATE:20251026T030000
END:STANDARD
BEGIN:DAYLIGHT
TZNAME:CEST
DTSTART:20240331T020000
TZOFFSETFROM:+0100
TZOFFSETTO:+0200
RDATE:20250330T020000
END:DAYLIGHT
END:VTIMEZONE
BEGIN:VEVENT
UID:5398c3af-56c8-4423-a289-2454d72f42dd
DTSTAMP:20260421T161822Z
CATEGORIES:Feste
CLASS:PUBLIC
DESCRIPTION:
DTSTART:20240519T082300Z
DTEND:20240519T082300Z
GEO:00;0
LOCATION:Festweise Breitenhain
ORGANIZER:
SEQUENCE:1
SUMMARY:22. Countryfest
TRANSP:OPAQUE
URL:https://lucka.de/component/icagenda/25-22-countryfest/2024-05-19-10-23?
 Itemid=435
END:VEVENT
END:VCALENDAR
