BEGIN:VCALENDAR
VERSION:2.0
PRODID:-//Stadt Lucka - Perle im Dreiländereck//NONSGML kigkonsult.se iCalc
 reator 2.30.10//
CALSCALE:GREGORIAN
METHOD:PUBLISH
UID:9870a19a-feec-4420-8efe-3b6dbbeec75b
X-WR-CALNAME:iCagenda
X-WR-CALDESC:Event Management Extension for Joomla!
X-WR-RELCALID:3E26604A-50F4-4449-8B3E-E4F4932D05B5
X-WR-TIMEZONE:Europe/Berlin
BEGIN:VTIMEZONE
TZID:Europe/Berlin
BEGIN:STANDARD
TZNAME:CET
DTSTART:20231029T030000
TZOFFSETFROM:+0200
TZOFFSETTO:+0100
RDATE:20241027T030000
RDATE:20251026T030000
END:STANDARD
BEGIN:DAYLIGHT
TZNAME:CEST
DTSTART:20240331T020000
TZOFFSETFROM:+0100
TZOFFSETTO:+0200
RDATE:20250330T020000
END:DAYLIGHT
END:VTIMEZONE
BEGIN:VEVENT
UID:aa4a7245-c3bc-4036-b241-49974ebed964
DTSTAMP:20260421T161928Z
CATEGORIES:Feste
CLASS:PUBLIC
DESCRIPTION:
DTSTART:20240518T082200Z
DTEND:20240518T082200Z
GEO:00;0
LOCATION:Festweise Breitenhain
ORGANIZER:
SEQUENCE:1
SUMMARY:22. Countryfest
TRANSP:OPAQUE
URL:https://lucka.de/component/icagenda/25-22-countryfest/2024-05-18-10-22?
 Itemid=435
END:VEVENT
END:VCALENDAR
