BEGIN:VCALENDAR
VERSION:2.0
PRODID:-//Stadt Lucka - Perle im Dreiländereck//NONSGML kigkonsult.se iCalc
 reator 2.30.10//
CALSCALE:GREGORIAN
METHOD:PUBLISH
UID:3e6dc79d-f705-423c-9474-535e63ab3e39
X-WR-CALNAME:iCagenda
X-WR-CALDESC:Event Management Extension for Joomla!
X-WR-RELCALID:3E26604A-50F4-4449-8B3E-E4F4932D05B5
X-WR-TIMEZONE:Europe/Berlin
BEGIN:VTIMEZONE
TZID:Europe/Berlin
BEGIN:STANDARD
TZNAME:CET
DTSTART:20241027T030000
TZOFFSETFROM:+0200
TZOFFSETTO:+0100
RDATE:20251026T030000
END:STANDARD
BEGIN:DAYLIGHT
TZNAME:CEST
DTSTART:20240331T020000
TZOFFSETFROM:+0100
TZOFFSETTO:+0200
RDATE:20250330T020000
RDATE:20260329T020000
END:DAYLIGHT
END:VTIMEZONE
BEGIN:VEVENT
UID:26b66df5-d1d5-4677-a309-de335d464c5c
DTSTAMP:20260421T194136Z
CATEGORIES:Konzerte
CLASS:PUBLIC
DESCRIPTION:
DTSTART:20241215T140000Z
DTEND:20241215T140000Z
GEO:00;0
LOCATION:Pankratiuskirche Lucka
ORGANIZER:
SEQUENCE:1
SUMMARY:Adventskonzert mit dem JBL e.V.
TRANSP:OPAQUE
URL:https://lucka.de/component/icagenda/21-adventskonzert-mit-dem-jbl-e-v?I
 temid=435
END:VEVENT
END:VCALENDAR
