BEGIN:VCALENDAR
VERSION:2.0
PRODID:-//Stadt Lucka - Perle im Dreiländereck//NONSGML kigkonsult.se iCalc
 reator 2.30.10//
CALSCALE:GREGORIAN
METHOD:PUBLISH
UID:7f7eda75-0b93-464a-9d2e-9ac701a07398
X-WR-CALNAME:iCagenda
X-WR-CALDESC:Event Management Extension for Joomla!
X-WR-RELCALID:3E26604A-50F4-4449-8B3E-E4F4932D05B5
X-WR-TIMEZONE:Europe/Berlin
BEGIN:VTIMEZONE
TZID:Europe/Berlin
BEGIN:STANDARD
TZNAME:CET
DTSTART:20241027T030000
TZOFFSETFROM:+0200
TZOFFSETTO:+0100
RDATE:20251026T030000
END:STANDARD
BEGIN:DAYLIGHT
TZNAME:CEST
DTSTART:20240331T020000
TZOFFSETFROM:+0100
TZOFFSETTO:+0200
RDATE:20250330T020000
RDATE:20260329T020000
END:DAYLIGHT
END:VTIMEZONE
BEGIN:VEVENT
UID:39548cfd-cac8-4bfb-a9e3-09f03ad2216c
DTSTAMP:20260421T194130Z
CATEGORIES:Märkte
CLASS:PUBLIC
DESCRIPTION:
DTSTART:20241214T140000Z
DTEND:20241214T140000Z
GEO:00;0
LOCATION:Platz vor der Kirche
ORGANIZER:
SEQUENCE:1
SUMMARY:Weihnachtsmarkt
TRANSP:OPAQUE
URL:https://lucka.de/component/icagenda/20-weihnachtsmarkt?Itemid=435
END:VEVENT
END:VCALENDAR
