BEGIN:VCALENDAR
VERSION:2.0
PRODID:-//Stadt Lucka - Perle im Dreiländereck//NONSGML kigkonsult.se iCalc
 reator 2.30.10//
CALSCALE:GREGORIAN
METHOD:PUBLISH
UID:0670907a-8eb4-41a1-9d6f-4b296ed327b6
X-WR-CALNAME:iCagenda
X-WR-CALDESC:Event Management Extension for Joomla!
X-WR-RELCALID:3E26604A-50F4-4449-8B3E-E4F4932D05B5
X-WR-TIMEZONE:Europe/Berlin
BEGIN:VTIMEZONE
TZID:Europe/Berlin
BEGIN:STANDARD
TZNAME:CET
DTSTART:20231029T030000
TZOFFSETFROM:+0200
TZOFFSETTO:+0100
RDATE:20241027T030000
RDATE:20251026T030000
END:STANDARD
BEGIN:DAYLIGHT
TZNAME:CEST
DTSTART:20240331T020000
TZOFFSETFROM:+0100
TZOFFSETTO:+0200
RDATE:20250330T020000
END:DAYLIGHT
END:VTIMEZONE
BEGIN:VEVENT
UID:aa56ac7b-abf9-4d1f-a180-b280cee165fd
DTSTAMP:20260421T175109Z
CATEGORIES:Feste
CLASS:PUBLIC
DESCRIPTION:
DTSTART:20240608T070000Z
DTEND:20240608T070000Z
GEO:00;0
LOCATION:Prößdorfer See\, kleiner Strand
ORGANIZER:
SEQUENCE:1
SUMMARY:3. Wasserfest in Prößdorf
TRANSP:OPAQUE
URL:https://lucka.de/component/icagenda/13-3-wasserfest-in-proessdorf?Itemi
 d=435
END:VEVENT
END:VCALENDAR
