BEGIN:VCALENDAR
VERSION:2.0
PRODID:-//Stadt Lucka - Perle im Dreiländereck//NONSGML kigkonsult.se iCalc
 reator 2.30.10//
CALSCALE:GREGORIAN
METHOD:PUBLISH
UID:0fef6bfb-847b-4201-a0ff-5aff9ad4d694
X-WR-CALNAME:iCagenda
X-WR-CALDESC:Event Management Extension for Joomla!
X-WR-RELCALID:3E26604A-50F4-4449-8B3E-E4F4932D05B5
X-WR-TIMEZONE:Europe/Berlin
BEGIN:VTIMEZONE
TZID:Europe/Berlin
BEGIN:STANDARD
TZNAME:CET
DTSTART:20251026T030000
TZOFFSETFROM:+0200
TZOFFSETTO:+0100
RDATE:20261025T030000
RDATE:20271031T030000
END:STANDARD
BEGIN:DAYLIGHT
TZNAME:CEST
DTSTART:20260329T020000
TZOFFSETFROM:+0100
TZOFFSETTO:+0200
RDATE:20270328T020000
END:DAYLIGHT
END:VTIMEZONE
BEGIN:VEVENT
UID:3a3c4ed7-6e55-46cb-8d87-d56e2f478947
DTSTAMP:20260421T145356Z
CATEGORIES:Ausstellungen
CLASS:PUBLIC
DESCRIPTION:
DTSTART:20260606T114400Z
DTEND:20260606T114400Z
GEO:00;0
LOCATION:Vereinsgelände Jugendblasorchester
ORGANIZER:
SEQUENCE:1
SUMMARY:Tag der offenen Tür
TRANSP:OPAQUE
URL:https://lucka.de/calender-lucka/92-tag-der-offenen-tuer-2
END:VEVENT
END:VCALENDAR
