BEGIN:VCALENDAR
VERSION:2.0
PRODID:-//Stadt Lucka - Perle im Dreiländereck//NONSGML kigkonsult.se iCalc
 reator 2.30.10//
CALSCALE:GREGORIAN
METHOD:PUBLISH
UID:29f87eb6-53c2-410e-bade-d8da061b0af9
X-WR-CALNAME:iCagenda
X-WR-CALDESC:Event Management Extension for Joomla!
X-WR-RELCALID:3E26604A-50F4-4449-8B3E-E4F4932D05B5
X-WR-TIMEZONE:Europe/Berlin
BEGIN:VTIMEZONE
TZID:Europe/Berlin
BEGIN:STANDARD
TZNAME:CET
DTSTART:20251026T030000
TZOFFSETFROM:+0200
TZOFFSETTO:+0100
RDATE:20261025T030000
RDATE:20271031T030000
END:STANDARD
BEGIN:DAYLIGHT
TZNAME:CEST
DTSTART:20260329T020000
TZOFFSETFROM:+0100
TZOFFSETTO:+0200
RDATE:20270328T020000
RDATE:20280326T020000
END:DAYLIGHT
END:VTIMEZONE
BEGIN:VEVENT
UID:290019c7-32ea-4835-a98c-fc4bbca19c25
DTSTAMP:20260421T194431Z
CATEGORIES:Märkte
CLASS:PUBLIC
DESCRIPTION:
DTSTART:20260926T050000Z
DTEND:20260926T110000Z
GEO:00;0
LOCATION:Neumarkt Clara-Zetkin-Straße
ORGANIZER:
SEQUENCE:1
SUMMARY:Trödelmarkt
TRANSP:OPAQUE
URL:https://lucka.de/calender-lucka/102-troedelmarkt-7
END:VEVENT
END:VCALENDAR
